BEGIN:VCALENDAR
VERSION:2.0
PRODID:-//AVNRW - ECPv6.15.20//NONSGML v1.0//EN
CALSCALE:GREGORIAN
METHOD:PUBLISH
X-WR-CALNAME:AVNRW
X-ORIGINAL-URL:https://aikido-avnrw.de
X-WR-CALDESC:Veranstaltungen für AVNRW
REFRESH-INTERVAL;VALUE=DURATION:PT1H
X-Robots-Tag:noindex
X-PUBLISHED-TTL:PT1H
BEGIN:VTIMEZONE
TZID:Europe/Berlin
BEGIN:DAYLIGHT
TZOFFSETFROM:+0100
TZOFFSETTO:+0200
TZNAME:CEST
DTSTART:20250330T010000
END:DAYLIGHT
BEGIN:STANDARD
TZOFFSETFROM:+0200
TZOFFSETTO:+0100
TZNAME:CET
DTSTART:20251026T010000
END:STANDARD
BEGIN:DAYLIGHT
TZOFFSETFROM:+0100
TZOFFSETTO:+0200
TZNAME:CEST
DTSTART:20260329T010000
END:DAYLIGHT
BEGIN:STANDARD
TZOFFSETFROM:+0200
TZOFFSETTO:+0100
TZNAME:CET
DTSTART:20261025T010000
END:STANDARD
BEGIN:DAYLIGHT
TZOFFSETFROM:+0100
TZOFFSETTO:+0200
TZNAME:CEST
DTSTART:20270328T010000
END:DAYLIGHT
BEGIN:STANDARD
TZOFFSETFROM:+0200
TZOFFSETTO:+0100
TZNAME:CET
DTSTART:20271031T010000
END:STANDARD
END:VTIMEZONE
BEGIN:VEVENT
DTSTART;TZID=Europe/Berlin:20260620T133000
DTEND;TZID=Europe/Berlin:20260620T183000
DTSTAMP:20260420T034116
CREATED:20260118T172648Z
LAST-MODIFIED:20260118T172648Z
UID:3489-1781962200-1781980200@aikido-avnrw.de
SUMMARY:Regionaltraining
DESCRIPTION:Frank Mercsak\, 6. DAN\nRenate Behnke\, 5. DAN\nNikolaus Borchert\, 5. DAN \nWeitere Informationen zum Ablauf sowie das PDF zum Regionaltraining werden noch bekannt gegeben.
URL:https://aikido-avnrw.de/event/regionaltraining-10
LOCATION:Glück Auf -Schule\, Hasselbruchstr. 24\, Herten\, 45701\, Deutschland
CATEGORIES:Lehrgänge,Regionaltraining
END:VEVENT
END:VCALENDAR