BEGIN:VCALENDAR
VERSION:2.0
PRODID:-//AVNRW - ECPv6.15.20//NONSGML v1.0//EN
CALSCALE:GREGORIAN
METHOD:PUBLISH
X-WR-CALNAME:AVNRW
X-ORIGINAL-URL:https://aikido-avnrw.de
X-WR-CALDESC:Veranstaltungen für AVNRW
REFRESH-INTERVAL;VALUE=DURATION:PT1H
X-Robots-Tag:noindex
X-PUBLISHED-TTL:PT1H
BEGIN:VTIMEZONE
TZID:Europe/Berlin
BEGIN:DAYLIGHT
TZOFFSETFROM:+0100
TZOFFSETTO:+0200
TZNAME:CEST
DTSTART:20240331T010000
END:DAYLIGHT
BEGIN:STANDARD
TZOFFSETFROM:+0200
TZOFFSETTO:+0100
TZNAME:CET
DTSTART:20241027T010000
END:STANDARD
BEGIN:DAYLIGHT
TZOFFSETFROM:+0100
TZOFFSETTO:+0200
TZNAME:CEST
DTSTART:20250330T010000
END:DAYLIGHT
BEGIN:STANDARD
TZOFFSETFROM:+0200
TZOFFSETTO:+0100
TZNAME:CET
DTSTART:20251026T010000
END:STANDARD
BEGIN:DAYLIGHT
TZOFFSETFROM:+0100
TZOFFSETTO:+0200
TZNAME:CEST
DTSTART:20260329T010000
END:DAYLIGHT
BEGIN:STANDARD
TZOFFSETFROM:+0200
TZOFFSETTO:+0100
TZNAME:CET
DTSTART:20261025T010000
END:STANDARD
END:VTIMEZONE
BEGIN:VEVENT
DTSTART;TZID=Europe/Berlin:20251129T143000
DTEND;TZID=Europe/Berlin:20251129T170000
DTSTAMP:20260420T091745
CREATED:20250109T084137Z
LAST-MODIFIED:20251123T230158Z
UID:3186-1764426600-1764435600@aikido-avnrw.de
SUMMARY:Unterstützungstraining
DESCRIPTION:Unterstützungstraining\nLehrer: Sven Gutt (3. Dan Aikido)  \nThema: nach Maßgabe des Lehrers \nAchtung Veranstaltung-Ort hat sich geändert: Unterstützungstraining  beim\nTLV Rünthe 77 e. V. – Abteilung Aikido \nTrainingsort\nTurnhalle Overberger Str. 62\n59192 Bergkamen-Rünthe
URL:https://aikido-avnrw.de/event/unterstuetzungstraining-30
LOCATION:Bergkamen-Rünthe Turnhalle Overberger Strasse\, Turnhalle Overberger Str. 62\, Bergkamen-Rünthe\, 59192
CATEGORIES:Lehrgänge,U-Training
END:VEVENT
END:VCALENDAR