BEGIN:VCALENDAR
VERSION:2.0
PRODID:-//AVNRW - ECPv6.15.20//NONSGML v1.0//EN
CALSCALE:GREGORIAN
METHOD:PUBLISH
X-WR-CALNAME:AVNRW
X-ORIGINAL-URL:https://aikido-avnrw.de
X-WR-CALDESC:Veranstaltungen für AVNRW
REFRESH-INTERVAL;VALUE=DURATION:PT1H
X-Robots-Tag:noindex
X-PUBLISHED-TTL:PT1H
BEGIN:VTIMEZONE
TZID:Europe/Berlin
BEGIN:DAYLIGHT
TZOFFSETFROM:+0100
TZOFFSETTO:+0200
TZNAME:CEST
DTSTART:20240331T010000
END:DAYLIGHT
BEGIN:STANDARD
TZOFFSETFROM:+0200
TZOFFSETTO:+0100
TZNAME:CET
DTSTART:20241027T010000
END:STANDARD
BEGIN:DAYLIGHT
TZOFFSETFROM:+0100
TZOFFSETTO:+0200
TZNAME:CEST
DTSTART:20250330T010000
END:DAYLIGHT
BEGIN:STANDARD
TZOFFSETFROM:+0200
TZOFFSETTO:+0100
TZNAME:CET
DTSTART:20251026T010000
END:STANDARD
BEGIN:DAYLIGHT
TZOFFSETFROM:+0100
TZOFFSETTO:+0200
TZNAME:CEST
DTSTART:20260329T010000
END:DAYLIGHT
BEGIN:STANDARD
TZOFFSETFROM:+0200
TZOFFSETTO:+0100
TZNAME:CET
DTSTART:20261025T010000
END:STANDARD
END:VTIMEZONE
BEGIN:VEVENT
DTSTART;TZID=Europe/Berlin:20251011T133000
DTEND;TZID=Europe/Berlin:20251011T160000
DTSTAMP:20260420T111926
CREATED:20250109T083937Z
LAST-MODIFIED:20251006T170641Z
UID:3183-1760189400-1760198400@aikido-avnrw.de
SUMMARY:Unterstützungstraining
DESCRIPTION:TLVUnterstützungstraining\nLehrer: Sven Gutt (3. Dan Aikido)  \nThema: nach Maßgabe des Lehrers
URL:https://aikido-avnrw.de/event/unterstuetzungstraining-29
LOCATION:Bergkamen-Rünthe Turnhalle Overberger Strasse\, Turnhalle Overberger Str. 62\, Bergkamen-Rünthe\, 59192
CATEGORIES:Lehrgänge,U-Training
END:VEVENT
BEGIN:VEVENT
DTSTART;TZID=Europe/Berlin:20251025T143000
DTEND;TZID=Europe/Berlin:20251025T170000
DTSTAMP:20260420T111926
CREATED:20251006T171414Z
LAST-MODIFIED:20251006T171414Z
UID:3400-1761402600-1761411600@aikido-avnrw.de
SUMMARY:Unterstützungstraining
DESCRIPTION:Unterstützungstraining\nLehrer: Sven Gutt (3. Dan Aikido)  \nThema: nach Maßgabe des Lehrers
URL:https://aikido-avnrw.de/event/unterstuetzungstraining-28
LOCATION:Berufskolleg Wiedenbrück\, Am Sandberg 21\, Rheda-Wiedenbrück\, NRW\, 33378\, Deutschland
CATEGORIES:Lehrgänge,U-Training
END:VEVENT
END:VCALENDAR